BEGIN:VCALENDAR
VERSION:2.0
PRODID:-//St Columbkille&#039;s Church Rutherglen - ECPv6.15.18//NONSGML v1.0//EN
CALSCALE:GREGORIAN
METHOD:PUBLISH
X-ORIGINAL-URL:https://www.stcolumbkille.org.uk
X-WR-CALDESC:Events for St Columbkille&#039;s Church Rutherglen
REFRESH-INTERVAL;VALUE=DURATION:PT1H
X-Robots-Tag:noindex
X-PUBLISHED-TTL:PT1H
BEGIN:VTIMEZONE
TZID:Europe/London
BEGIN:DAYLIGHT
TZOFFSETFROM:+0000
TZOFFSETTO:+0100
TZNAME:BST
DTSTART:20250330T010000
END:DAYLIGHT
BEGIN:STANDARD
TZOFFSETFROM:+0100
TZOFFSETTO:+0000
TZNAME:GMT
DTSTART:20251026T010000
END:STANDARD
BEGIN:DAYLIGHT
TZOFFSETFROM:+0000
TZOFFSETTO:+0100
TZNAME:BST
DTSTART:20260329T010000
END:DAYLIGHT
BEGIN:STANDARD
TZOFFSETFROM:+0100
TZOFFSETTO:+0000
TZNAME:GMT
DTSTART:20261025T010000
END:STANDARD
BEGIN:DAYLIGHT
TZOFFSETFROM:+0000
TZOFFSETTO:+0100
TZNAME:BST
DTSTART:20270328T010000
END:DAYLIGHT
BEGIN:STANDARD
TZOFFSETFROM:+0100
TZOFFSETTO:+0000
TZNAME:GMT
DTSTART:20271031T010000
END:STANDARD
END:VTIMEZONE
BEGIN:VEVENT
DTSTART;TZID=Europe/London:20260412T080000
DTEND;TZID=Europe/London:20260412T170000
DTSTAMP:20260425T004050
CREATED:20260321T121420Z
LAST-MODIFIED:20260406T131917Z
UID:17351-1775980800-1776013200@www.stcolumbkille.org.uk
SUMMARY:Divine Mercy Sunday
DESCRIPTION:On Divine Mercy Sunday\, 12th April there will be Confessions between 2pm & 4pm (visiting priests available)\, with Adoration of the Blessed Sacrament 2pm & 4pm\, Divine Mercy Chaplet at 3pm and Holy Mass at 4pm. All welcome. The Church offers a Plenary Indulgence on this feast day. Refreshments in the hall afterwards.
URL:https://www.stcolumbkille.org.uk/event/divine-mercy-sunday/
LOCATION:St Columbkille’s Church\, Main Street\, Rutherglen\, Glasgow\, G73
CATEGORIES:Religious Service
ATTACH;FMTTYPE=image/jpeg:https://www.stcolumbkille.org.uk/wp-content/uploads/2017/05/divine_mercy_image_.jpg
END:VEVENT
BEGIN:VEVENT
DTSTART;TZID=Europe/London:20260416T111500
DTEND;TZID=Europe/London:20260416T123000
DTSTAMP:20260425T004050
CREATED:20251101T124839Z
LAST-MODIFIED:20260410T180609Z
UID:15061-1776338100-1776342600@www.stcolumbkille.org.uk
SUMMARY:UCM Meeting
DESCRIPTION:There will be a meeting of the parish UCM grooup in the Parish Hall on Thursday 16th April at 11.15am.  All women of the parish will be made most welcome.
URL:https://www.stcolumbkille.org.uk/event/ucm-meeting/
LOCATION:St Columbkille’s Parish Hall\, 2 Kirkwood Street\, Rutherglen\, G732SL\, United Kingdom
CATEGORIES:Faith Formation
ATTACH;FMTTYPE=image/jpeg:https://www.stcolumbkille.org.uk/wp-content/uploads/2018/05/UCM-01-copy-e1762001297571.jpg
END:VEVENT
BEGIN:VEVENT
DTSTART;TZID=Europe/London:20260427T180000
DTEND;TZID=Europe/London:20260427T193000
DTSTAMP:20260425T004050
CREATED:20260216T152737Z
LAST-MODIFIED:20260421T121055Z
UID:17236-1777312800-1777318200@www.stcolumbkille.org.uk
SUMMARY:Parish Youth Club
DESCRIPTION:The Parish Youth Club is open to boys and girls in Primary 4 to 7.  It meets in the Parish Hall from 6pm to 7.30pm on Mondays of term time.
URL:https://www.stcolumbkille.org.uk/event/parish-youth-club/
LOCATION:St Columbkille’s Parish Hall\, 2 Kirkwood Street\, Rutherglen\, G732SL\, United Kingdom
CATEGORIES:Social
ATTACH;FMTTYPE=image/jpeg:https://www.stcolumbkille.org.uk/wp-content/uploads/2025/11/Youth-Club-2_crop.jpg
END:VEVENT
BEGIN:VEVENT
DTSTART;TZID=Europe/London:20260429T190000
DTEND;TZID=Europe/London:20260429T200000
DTSTAMP:20260425T004050
CREATED:20251004T135711Z
LAST-MODIFIED:20260404T103425Z
UID:14672-1777489200-1777492800@www.stcolumbkille.org.uk
SUMMARY:Baptism Preparation Course
DESCRIPTION:Attendance at our Baptism Preparation Course is required for arents who wish their child to be baptised in St Columbkille’s Church.  To enquire about Baptism\, please contact the Parish Office – 0141 647 6034.
URL:https://www.stcolumbkille.org.uk/event/baptism-preparation-course/
LOCATION:St Columbkille’s Church\, Main Street\, Rutherglen\, Glasgow\, G73
CATEGORIES:Faith Formation
ATTACH;FMTTYPE=image/jpeg:https://www.stcolumbkille.org.uk/wp-content/uploads/2025/10/Baptism-Preparation.jpeg
END:VEVENT
BEGIN:VEVENT
DTSTART;TZID=Europe/London:20260502T100000
DTEND;TZID=Europe/London:20260502T120000
DTSTAMP:20260425T004050
CREATED:20250927T113405Z
LAST-MODIFIED:20260404T103511Z
UID:14124-1777716000-1777723200@www.stcolumbkille.org.uk
SUMMARY:Welfare Clinic
DESCRIPTION:Our monthly Welfare Clinic provides information and advice on matters related to personal welfare and benefits.  If you require assistance out with our clinic times\, please email: welfare.stcolumbkilles@gmail.com . Our Parish SSVP can sometimes provide assistance to individuals and families. For more information\, visit:  ssvpmotherwelldiocese.org.uk
URL:https://www.stcolumbkille.org.uk/event/welfare-clinic/
LOCATION:St Columbkille’s Parish Hall\, 2 Kirkwood Street\, Rutherglen\, G732SL\, United Kingdom
CATEGORIES:Support
ATTACH;FMTTYPE=image/jpeg:https://www.stcolumbkille.org.uk/wp-content/uploads/2025/09/senior-woman-with-volunteer-e1759075511137.jpg
END:VEVENT
BEGIN:VEVENT
DTSTART;TZID=Europe/London:20260502T103000
DTEND;TZID=Europe/London:20260502T123000
DTSTAMP:20260425T004050
CREATED:20251003T162838Z
LAST-MODIFIED:20260417T085831Z
UID:14620-1777717800-1777725000@www.stcolumbkille.org.uk
SUMMARY:Parish Men's Group
DESCRIPTION:All men in the parish are invited to come together briefly each month on a Saturday after 10am Mass to spend some time in conversation and prayer. \nDeacon Michael will speak to the group on Saturday 2nd May.  All men of the parish welcome.
URL:https://www.stcolumbkille.org.uk/event/mens-group/
LOCATION:St Columbkille’s Parish Hall\, 2 Kirkwood Street\, Rutherglen\, G732SL\, United Kingdom
CATEGORIES:Faith Formation
ATTACH;FMTTYPE=image/png:https://www.stcolumbkille.org.uk/wp-content/uploads/2025/10/Parish-Mens-Group.png
END:VEVENT
BEGIN:VEVENT
DTSTART;TZID=Europe/London:20260504T190000
DTEND;TZID=Europe/London:20260504T193000
DTSTAMP:20260425T004050
CREATED:20260418T104453Z
LAST-MODIFIED:20260418T104453Z
UID:17472-1777921200-1777923000@www.stcolumbkille.org.uk
SUMMARY:May Devotions
DESCRIPTION:May Devotions will begin on Monday 4th May at 7pm and for the subsequent Mondays during May. We will recite the Rosary followed by Solemn Benediction. On the final Monday in May there will be a torchlight procession. 
URL:https://www.stcolumbkille.org.uk/event/may-devotions/
LOCATION:St Columbkille’s Church\, Main Street\, Rutherglen\, Glasgow\, G73
CATEGORIES:Religious Service
ATTACH;FMTTYPE=image/jpeg:https://www.stcolumbkille.org.uk/wp-content/uploads/2019/12/Mary-Mother-of-God-2-scaled.jpg
END:VEVENT
BEGIN:VEVENT
DTSTART;TZID=Europe/London:20260509T110000
DTEND;TZID=Europe/London:20260509T120000
DTSTAMP:20260425T004050
CREATED:20250928T163411Z
LAST-MODIFIED:20260328T120457Z
UID:14157-1778324400-1778328000@www.stcolumbkille.org.uk
SUMMARY:Book Club
DESCRIPTION: Next meeting of Book Club will be on Saturday 9th May after 10am Mass. The book we are reading is ‘A Better Life’ by Lionel Shriver.
URL:https://www.stcolumbkille.org.uk/event/book-club/
LOCATION:St Columbkille’s Parish Hall\, 2 Kirkwood Street\, Rutherglen\, G732SL\, United Kingdom
CATEGORIES:Social event
ATTACH;FMTTYPE=image/jpeg:https://www.stcolumbkille.org.uk/wp-content/uploads/2025/09/Book-Club.jpeg
END:VEVENT
BEGIN:VEVENT
DTSTART;TZID=Europe/London:20260509T110000
DTEND;TZID=Europe/London:20260509T120000
DTSTAMP:20260425T004050
CREATED:20260423T152044Z
LAST-MODIFIED:20260423T152142Z
UID:17477-1778324400-1778328000@www.stcolumbkille.org.uk
SUMMARY:First Communion Mass
DESCRIPTION:This year’s First Holy Communion Mass will take place on Saturday 9th May\, 11am. N.B. There will be no 10am Mass that day. Please remember the children in your prayers as they prepare to receive these sacraments. The families of children making their First Holy Communion are invited to 12noon Mass on Sunday 10th May for a Mass of Thanksgiving\, followed by a procession and then a party (just for the children!) in the hall. The children are welcome to wear their First Communion outfits or suitable party wear.
URL:https://www.stcolumbkille.org.uk/event/first-communion-mass/
LOCATION:St Columbkille’s Church\, Main Street\, Rutherglen\, Glasgow\, G73
CATEGORIES:Religious Service
ATTACH;FMTTYPE=image/jpeg:https://www.stcolumbkille.org.uk/wp-content/uploads/2018/10/Mss-Eucharist.jpg
END:VEVENT
END:VCALENDAR