BEGIN:VCALENDAR
VERSION:2.0
PRODID:-//St Columbkille&#039;s Church Rutherglen - ECPv6.15.18//NONSGML v1.0//EN
CALSCALE:GREGORIAN
METHOD:PUBLISH
X-WR-CALNAME:St Columbkille&#039;s Church Rutherglen
X-ORIGINAL-URL:https://www.stcolumbkille.org.uk
X-WR-CALDESC:Events for St Columbkille&#039;s Church Rutherglen
REFRESH-INTERVAL;VALUE=DURATION:PT1H
X-Robots-Tag:noindex
X-PUBLISHED-TTL:PT1H
BEGIN:VTIMEZONE
TZID:Europe/London
BEGIN:DAYLIGHT
TZOFFSETFROM:+0000
TZOFFSETTO:+0100
TZNAME:BST
DTSTART:20250330T010000
END:DAYLIGHT
BEGIN:STANDARD
TZOFFSETFROM:+0100
TZOFFSETTO:+0000
TZNAME:GMT
DTSTART:20251026T010000
END:STANDARD
BEGIN:DAYLIGHT
TZOFFSETFROM:+0000
TZOFFSETTO:+0100
TZNAME:BST
DTSTART:20260329T010000
END:DAYLIGHT
BEGIN:STANDARD
TZOFFSETFROM:+0100
TZOFFSETTO:+0000
TZNAME:GMT
DTSTART:20261025T010000
END:STANDARD
BEGIN:DAYLIGHT
TZOFFSETFROM:+0000
TZOFFSETTO:+0100
TZNAME:BST
DTSTART:20270328T010000
END:DAYLIGHT
BEGIN:STANDARD
TZOFFSETFROM:+0100
TZOFFSETTO:+0000
TZNAME:GMT
DTSTART:20271031T010000
END:STANDARD
END:VTIMEZONE
BEGIN:VEVENT
DTSTART;TZID=Europe/London:20260328T100000
DTEND;TZID=Europe/London:20260328T150000
DTSTAMP:20260424T194001
CREATED:20260314T122511Z
LAST-MODIFIED:20260316T120016Z
UID:17321-1774692000-1774710000@www.stcolumbkille.org.uk
SUMMARY:Lenten Retreat for couples and families
DESCRIPTION:LENTEN RETREAT – COUPLES & FAMILIES \nSaturday 28th March\, 10am-3pm\, in the Parish Hall. There will be reflections\, Adoration and a chance to meet other couples and families. Childcare provided for kids over 3\, who will have the opportunity to join Catechism of the Good Shepherd. Bring your own lunch! \nN.B. As the Hall car park will be full\, the car park of St Columbkille’s SCHOOL will be open for use on this day.
URL:https://www.stcolumbkille.org.uk/event/lenten-retreat-for-couples-and-families/
LOCATION:St Columbkille’s Parish Hall\, 2 Kirkwood Street\, Rutherglen\, G732SL\, United Kingdom
CATEGORIES:Faith Formation
ATTACH;FMTTYPE=image/jpeg:https://www.stcolumbkille.org.uk/wp-content/uploads/2020/02/lent-cover.jpg
END:VEVENT
BEGIN:VEVENT
DTSTART;TZID=Europe/London:20260328T130000
DTEND;TZID=Europe/London:20260328T160000
DTSTAMP:20260424T194001
CREATED:20260202T131745Z
LAST-MODIFIED:20260323T120304Z
UID:17159-1774702800-1774713600@www.stcolumbkille.org.uk
SUMMARY:Confessions before Easter
DESCRIPTION:Opportunities for Confession\, with several priests available\, on Saturday 28th March 2026 from 1pm-4pm\, with Exposition of the Blessed Sacrament throughout. \nDuring Holy Week:\nMonday 30th March 9.30am – 9.55am; 7 -7.30pm\nTuesday 31st March 9.30am – 9.55am; 7.30 -8.30pm\nWednesday 1st April 9.30am – 9.55am.
URL:https://www.stcolumbkille.org.uk/event/confessions-before-easter/
LOCATION:St Columbkille’s Church\, Main Street\, Rutherglen\, Glasgow\, G73
CATEGORIES:Religious Service
ATTACH;FMTTYPE=image/webp:https://www.stcolumbkille.org.uk/wp-content/uploads/2025/12/Confession.webp
END:VEVENT
END:VCALENDAR